BEGIN:VCALENDAR
VERSION:2.0
PRODID:-//Contratero//ES
CALSCALE:GREGORIAN
METHOD:PUBLISH
BEGIN:VEVENT
UID:Servicios de gestión documentación técnica@contratero.es
DTSTAMP:20260420T003437Z
DTSTART:20250507T235959
DTEND:20250508T005959
SUMMARY:Cierre: El objeto de esta licitación es la contratación\, b
DESCRIPTION:El objeto de esta licitación es la contratación\, bajo acuerdo marco\, del servicio de gestión de documentación técnica del área de Transformación Digital e Industrial.\\n\\nOrganismo: Comité Central de Compras de Navantia S.A.\, S.M.E.\\n\\nVer en Contratero: https://contratero.es/contracts/Servicios de gestión documentación técnica
URL:https://contratero.es/contracts/Servicios de gestión documentación técnica
STATUS:CONFIRMED
BEGIN:VALARM
TRIGGER:-P1D
ACTION:DISPLAY
DESCRIPTION:Recordatorio: El objeto de esta licitación e
END:VALARM
END:VEVENT
END:VCALENDAR